BEGIN:VCALENDAR
VERSION:2.0
PRODID:Gezeitenkonzerte
CALSCALE:GREGORIAN
BEGIN:VEVENT
LOCATION:Neue Kirche Emden\, 
GEO:
SUMMARY:Oll’ Mai 2026\, Die Kraft der Klänge: Wie Musik Wirkung entfaltet
DESCRIPTION:Programm 9. Mai 2026 10:00 Uhr - 14:00 Uhr Die Kraft der Klänge: Wie Musik Wirkung entfaltet 9:30 Uhr Ankommen 10:00 Uhr Begrüßung Rico Mecklenburg\, Präsident der Ostfriesischen Landschaft Digitales Grußwort Olaf Lies\, Niedersächsischer Ministerpräsident 10:30 Uhr Vortrag „Warum Musik wirkt – und wie Klänge auf Körper und Materie wirken“ Vera Brandes\, Musikproduzentin und Musikwirkungsforscherin Vortrag „Flutlichter – Wir sind das Konzert“ Julia Ströbel-Bänsch\, Leiterin des Projekts „Rhapsody in School“ der TONALi gGmbH Alexander Hauer\, künstlerische Leiter und Geschäftsführer von OpusEinhundert 12:00 Uhr Ehrungen 12:45 Uhr Imbiss im Klub zum guten Endzweck Musikalischer Rahmen Ella Burkhardt (Gesang) & Benyamin Nuss (Klavier) Die Kraft der Klänge: Wie Musik Wirkung entfaltet Musik ist weit mehr als nur ein schöner Zeitvertreib – sie weckt Emotionen\, schafft Verbindungen und prägt unsere Entwicklung. Der Oll’ Mai wird in diesem Jahr von den Gezeitenkonzerten ausgerichtet und widmet sich genau diesem Phänomen. Unter dem Titel „Die Kraft der Klänge: Wie Musik Wirkung entfaltet“ wird die tiefgreifende Bedeutung von Musik für den Menschen ergründet. Für die Gezeitenkonzerte ist die Musikvermittlung seit jeher eine tragende Säule. Ziel ist es\, jungen Menschen Neugierde und Freude am Leben durch Musik zu vermitteln. Neben stark vergünstigten Tickets für das junge Publikum und...
DTSTART:20260509T090000Z
DTEND:20260509T130000Z
URL;VALUE=URI:https://www.ostfriesischelandschaft.de/veranstaltung/oll-mai/
DTSTAMP:20260423T095312Z
UID:69e9ec08d4677
END:VEVENT
END:VCALENDAR